BEGIN:VCALENDAR
VERSION:2.0
PRODID:-//Campus Research Computing Consortium (CaRCC) - ECPv6.15.14//NONSGML v1.0//EN
CALSCALE:GREGORIAN
METHOD:PUBLISH
X-WR-CALNAME:Campus Research Computing Consortium (CaRCC)
X-ORIGINAL-URL:https://carcc.org
X-WR-CALDESC:Events for Campus Research Computing Consortium (CaRCC)
REFRESH-INTERVAL;VALUE=DURATION:PT1H
X-Robots-Tag:noindex
X-PUBLISHED-TTL:PT1H
BEGIN:VTIMEZONE
TZID:America/New_York
BEGIN:DAYLIGHT
TZOFFSETFROM:-0500
TZOFFSETTO:-0400
TZNAME:EDT
DTSTART:20240310T070000
END:DAYLIGHT
BEGIN:STANDARD
TZOFFSETFROM:-0400
TZOFFSETTO:-0500
TZNAME:EST
DTSTART:20241103T060000
END:STANDARD
BEGIN:DAYLIGHT
TZOFFSETFROM:-0500
TZOFFSETTO:-0400
TZNAME:EDT
DTSTART:20250309T070000
END:DAYLIGHT
BEGIN:STANDARD
TZOFFSETFROM:-0400
TZOFFSETTO:-0500
TZNAME:EST
DTSTART:20251102T060000
END:STANDARD
BEGIN:DAYLIGHT
TZOFFSETFROM:-0500
TZOFFSETTO:-0400
TZNAME:EDT
DTSTART:20260308T070000
END:DAYLIGHT
BEGIN:STANDARD
TZOFFSETFROM:-0400
TZOFFSETTO:-0500
TZNAME:EST
DTSTART:20261101T060000
END:STANDARD
END:VTIMEZONE
BEGIN:VEVENT
DTSTART;TZID=America/New_York:20251106T130000
DTEND;TZID=America/New_York:20251106T140000
DTSTAMP:20260419T134239
CREATED:20251031T190505Z
LAST-MODIFIED:20251031T190505Z
UID:21593-1762434000-1762437600@carcc.org
SUMMARY:Mentoring Working Group
DESCRIPTION:Topic:  \nDescription:  \nCall Coordinates (Zoom): If you are not a member of Mentoring Working Group email list (where we distribute Zoom details)\, please contact coordinators of the relevant track (workforce-mentoring-wg@carcc.org) by including name and affiliation.
URL:https://carcc.org/event/mentoring-working-group-2/
END:VEVENT
BEGIN:VEVENT
DTSTART;TZID=America/New_York:20251104T130000
DTEND;TZID=America/New_York:20251104T140000
DTSTAMP:20260419T134239
CREATED:20250811T124718Z
LAST-MODIFIED:20251027T205030Z
UID:21313-1762261200-1762264800@carcc.org
SUMMARY:Data Facing Track - Nov 2025: PIDs for Instruments & Facilities
DESCRIPTION:Topic: Persistent Identifiers for Facilities and Instruments – Recommendations from the FAIR Instruments and Facilities Research Coordination Network \nThe FAIR Instruments and Facilities Research Coordination Network\, funded in 2022 by grant awards from the NSF’s Fair and Open Science (FAIROS) program\, has worked to advance the standardization and adoption of Persistent Identifiers (PIDs) for research facilities and instruments nationally. Through a series of workshops intended to engage various stakeholders in the research and scholarly communications communities\, the project team has developed a set of recommendations that build on previous work in the space (e.g.\, RRIDs\, or Research Resource Identifiers) to help clarify and generalize current practices and principles around PID design and application. These recommendations have been developed with an eye toward achieving tangible outcomes for open science. \nDuring our November call\, we’ll hear from representatives of the FAIR Instruments and Facilities Research Coordination Network to learn more about the project and some of the key details of their recommendations. \n 
URL:https://carcc.org/event/df-track-topic-tbd-2/
CATEGORIES:data-facing
END:VEVENT
END:VCALENDAR